Workbook

Sheet Disclaimer
A1: Disclaimer - Important notices
A4: (i) The Product Information displayed on this Site has been uploaded by the Issuers of the relevant Products. None of the information displayed on this Site shall form the basis of any contract. Any User of this Site will be required to acknowledge that it has not relied on, or been induced to enter into any contract by, any representation or warranty.
A5: (ii) The Covered Bond Label Foundation has not independently verified the Product Information displayed on this Site. Accordingly, no representation, warranty or undertaking, express or implied, is made, and no responsibility is accepted, by the Covered Bond Label Foundation as to or in relation to the accuracy or completeness or otherwise of such Product Information."
A6: (iii) The information provided on or accessible through the Site is not intended for distribution to, or use by, any person or entity in any jurisdiction where such distribution or use would be contrary to local law, or which would subject us or any Issuer, to any authorisation, registration or other requirement within such jurisdiction. You agree not to use or export the information or materials available on or through this Site in violation of laws in your jurisdiction.
A8: TERMS OF USE
A9: This website www.coveredbondlabel.com (the "Site") is owned and operated by the Covered Bond Label Foundation (the Covered Bond Label Foundation together with its affiliates, "we" or "us") a Private Foundation (fondation privée / private stichting) registered in Belgium; whose registered office is at Rue de la Science 14 - 1040 Brussels - Belgium and registered under number 500.950.659 (RPR/RPM Brussels).
A10: The Site is intended for use as a directory of information relating to certain covered bond products ("Products") (the "Product Information") by an issuer of ("Issuer"), or potential investor in ("Investor"), such Products (an Issuer, Investor, or any other person accessing this Site, each a "User" or "you"). The Product Information is provided by each relevant Issuer, and remains at all times the sole responsibility of the relevant Issuer. We have not independently verified any Product Information, nor reviewed whether any Product for which information is available on the Site actually is a covered bond product. This Site or any label made available through it does not constitute, nor contain, any form of credit rating, any offer to sell (or the solicitation of an offer to purchase) any Product, nor does it constitute a recommendation, or investment advice (or any other type of advice) upon which reliance should be placed.
A11: These terms and conditions together with the documents referred to in them set out the terms of use ("T&Cs") on which (a) an Issuer; (b) Investor; or (c) any other User, may make use of the Site. Section A applies primarily to Investors, and Section B applies primarily to Issuers. The General T&Cs in Section C apply to all Users.
A12: Our Acceptable Use Policy and Privacy Policy are incorporated into these T&Cs.
A13: Please read the T&Cs carefully before you start to use the Site. By clicking 'Accept' you indicate that you accept these T&Cs and that you agree to abide by them.
A14: If any provision of these T&Cs shall be deemed unlawful, void or for any reason unenforceable, then that provision shall be deemed severable from these terms and shall not affect the validity and enforceability of any remaining provisions.
A16: SECTION A. INVESTOR T&Cs
... A169: If you have any questions about this policy, the collection and use of your personal information or other privacy-specific concerns please contact us by clicking on Contact Us .

Sheet Introduction
F5: Harmonised Transparency Template
D6: 2027 Version
F7: Spain
F8: Caja Rural de Navarra, Sociedad Cooperativa de Crédito
F9: Reporting Date: 26/10/2026
F10: Cut-off Date: 30/09/2026
F22: Index
D24: Worksheet A: HTT General | E24: Tab 1: Harmonised Transparency Template
D26: Worksheet B1: HTT Mortgage Assets
D28: Worksheet B2: HTT Public Sector Assets | E28: Tab 1: Harmonised Transparency Template
D30: Worksheet B3: HTT Shipping Assets | E30: Tab 1: Harmonised Transparency Template
D32: Worksheet C: HTT Harmonised Glossary | E32: Tab 1: Harmonised Transparency Template
D34: Covered Bond Label Disclaimer | E34: Tab 1: Harmonised Transparency Template
D36: Worksheet D & Onwards (If Any): National Transparency Template
D38: Worksheet E: Optional ECB-ECAIs data
D40: Worksheet F1: Sustainable M data | E40: Tab 1: Harmonised Transparency Template
D42: Worksheet F2: Sustainable PS data | E42: Tab 1: Harmonised Transparency Template

Sheet Completion Instructions
F5: Completion Instructions
F7: Please delete this tab once you have completed this file
C9: 1. Every pool has one separate HTT. Issuers with more than one cover pool have to present as many separate HTTs as the number of pools.
C10: 2. All cells that include “[For completion]” and “[Mark as ND if not relevant]” needs to be completed
C11: 3. The "[For completion]" or "[Mark as ND if not relevant]" cells could be filled with:
D12: 3.A Numbers: Please insert the appropriate data
D13: 3.B Letters: Please insert either No Data (ND)
D14: (i) ND1: Please complete the cell with ND1 when the information is not applicable for the jurisdiction
D15: (ii) ND2: Please complete the cell with ND2 when the information is not relevant for the issuer and/or CB programme at the present time
D16: (iii) ND3: Please complete the cell with ND3 when the information is not available at the present time
D17: (iv) ND4: Please complete the cell with ND4 when the information is confidential
C18: 4. Please note that the percentage cells will be automatically completed by the spreadsheet.
C19: 5. The wording of the tabs referring to the HTT (the ones with an orange tab colour) are not to be changed.
C20: 6. Should you wish to insert your National Transparency Template worksheet(s) in the HTT, please follow our instructions in the box below.
D21: Please do not forget to change the name of the worksheet in order to be consistent with the numbering of the existing ones (starting with D.).
D22: Please update the Introduction Tab accordingly.
C23: 7. Please delete tab D (Insert National Transparency Template) and the example tabs if unused.
D24: Please update the introduction Tab accordingly.
C25: 8. Should you make references to external documents or cells in this document, please insert the hyperlink.
C26: 9. Since HTT 2018 various fields as well as the amount of rows and columns are blocked in order to guarantee the uniformity of the HTT architecture which enables to run automated reporting programs. In order to guarantee this uniformity the Secretariat will not provide 'unprotected' HTTs to the issuers
C28: 10. The Mortgage and Public Sector worksheets should only include data from the mortgage and public coverage registers, if available in your country.
C29: 11. Since the loan bucket size of the loan size information (Tab. B1 HTT mortgage Assets - section 7.10 and 7.15, Tab. B2 HTT Public Sector Assets - section 8.2, Tab B3. HTT Shipping Assets - section 9.8) is decided at national level, please follow the agreed dispositions which can be found in the HTT Completion Guideline
C31: 12. Since the regional breakdown denomination (Tab. B1 HTT Mortgage Assets - section 7.5., Tab B2 HTT Public Sector Assets - section 8.5) is decided at national level, please follow the agreed dispositions which can be found in the HTT Completion Guideline
C33: 13. For your information Legal Entity Identifier (LEI) for counterparty information may be found in http://www.lei-lookup.com/#!search
C34: 14. For any further questions on how to complete the HTT please consult in the following order:
D35: (i) the HTT Completion Guideline
D36: (ii) the relevant National Coordinator
D37: (iii) the Covered Bond Label Secretariat
C48: How to import an excel worksheet
C50: 1. Click on the tab of the worksheet you want to import | G50: 3. Select the excel file where you want to transfer your worksheet from the dropdown menu
C51: 2. Select "Move or Copy" | G51: 4. In the box Before Sheet, please select "(move to end)"
C52: 3 | G52: 5. Do not forget to tick the "Create a copy" box and press ok
C70: 3. Worksheet “A. HTT General": cell C58: the formula has been fixed and the nominal amount now is displayed correctly
C76: Updates for HTT 2027
C77: 0. All worksheets: Update the year of the HTT template next to the title of each
C78: 1. All worksheets: Highlight the locked cells in orange in order to see which cells are to be filled in
C79: 2. Worksheet “A. HTT General”: cell C28: "Yes" and "No" from the drop down menu have been replaced with "Y" and "N" to be in line with cells C27 and C29
C80: 3. Worksheet “A. HTT General": cell C58: The formula has been fixed and the nominal amount now is displayed correctly
C81: 4. Worksheet “A. HTT General": cell D58: The error message shown if the values between cells C38 and C58 differ has been moved here from cell C58
C82: 5. Worksheet “B1. HTT Mortgage Assets”: The Mortgage worksheet should only include data from the mortgage coverage register, if available in your country, as per Completion Instruction 10
...

Sheet FAQ
A1: Frequently Asked Questions (FAQ)
A2: Please delete this tab once you have completed this file
C4: Harmonised Transparency Template - Frequently Asked Questions
A5: General Questions
A6: Question 1: What is the structure of the Harmonised Transparency Template (HTT)?
B7: Response 1 | C7: The HTT contains 5 main worksheets (A, B1, B2, B3 and C). The first worksheet (A) includes the HTT general information. The second worksheet (B1) presents the mortgage information. The third worksheet (B2) contains the public sector information. The fourth worksheet (B3) contains shipping information.The fifth worksheet (C) represents the HTT glossary, which has a harmonised section across jurisdictionsat the top, but also a section for national specificities below. Any additional tabs (D, E, etc.), will contain the National Transparency Template (NTT) information where relevant.
A8: Question 2: Is the HTT going to replace the National Transparency Template (NTT)?
B9: Response 2 | C9: The HTT is compulsory in order to be considered Covered Bond Label compliant. The NTT can be added in order to provide further information at national discretion.
A10: Question 3: What is the reporting frequency of the HTT?
B11: Response 3 | C11: The reporting of the HTT is the same as the reporting of the National Transparency Template (NTT), i.e. at least quarterly.
A12: Question 4: Where should the HTT be posted?
B13: Response 4 | C13: The HTT should be posted in the same location as the National Transparency Template (NTT) is currently posted, i.e. on the issuer's website. There is no common platform for the HTT.
A14: Question 5: In what format the HTT should be disclosed?
B15: Response 5 | C15: The HTT should be disclosed in Excel format in so far as it is possible, as already suggested by the Label Advisory Council and investors. Where issuers are currently providing the Template in both Excel and PDF formats, they are encouraged to continue to do so.
A16: Question 6: Where can I find the reporting date?
B17: Response 6 | C17: The reporting date can be found in the Introduction Tab and in the "Basic Facts" section of worksheet A.
A18: Question 7: What happens when I cannot complete a section of the HTT?
B19: Response 7 | C19: When the information is either (i) not applicable for the jurisdiction, (ii) not relevant for the issuer and/or CB programme at the present time; (iii) not available at the present time; or (iv) confidential. Issuers are kindly requested to include ND1, ND2, ND3 or ND4 respectively.
A20: Specific Questions
A21: Question 8: Does the Harmonised Transparency Template only contain disaggregated information for mortgages and public sector?
B22: Response 8 | C22: Indeed, the HTT only provides disaggregated information for mortgage and public sector assets which represent 99.6% of total outstanding. Information in more detail on other collateral types can always be included in worksheet E, which may contains the National Transparency Template (NTT).
A23: Question 9: How should the "liquid assets" be calculated in the section 3 "General Cover Pool / Covered Bond Information" of the HTT?
B24: Response 9 | C24: Liquid assets are defined as central bank eligible assets, substitute and other marketable assets. This total is calculated over both outstanding covered bonds and outstanding cover assets.
A25: Question 10: How should the "expected" and "contractual" columns of the "Cover pool amortisation profile" be understood?
B26: Response 10 | C26: Contractual maturities assume no prepayment scenario unlike expected maturities. Jurisdictions/issuers publishing the two should disclosed their prepayment assumptions for the latter.
A27: Question 11: How should the hedging columns included in section 3 "General Cover Pool / Covered Bond Information" of the HTT be understood?
B28: Response 11 | C28: The currency breakdown before/after hedging aims to assess the potential currency mismatch on the asset and liability sides. This is supplemented by explanations on the issuer's hedging strategy in the Harmonised Glossary.
A29: Question 12: How should the cover assets and covered bonds distribution by currency be populated in section 3.6 and 3.7 in Tab A. HTT General?
B30: Response 12 | C30: In the columns titled "Nominal [before hedging]" and "Nominal [after hedging]" if there is no hedging activity also the amounts for the single currencies should be the same in the two columns. Should there be hedging activity then the currency into which the outstanding has been swapped will receive the respective amount. For example, if all outstanding have been swapped into one currency, only this currency will see a positive amount in the after hedging section. The sum of the columns must match the figures reported under "Total Cover Assets", respectively "Outstanding Covered Bonds" in Section 3.1 of Tab A. HTT General.
A31: Question 13: How should the covered bonds distribution by interest rate be populated in section 3.8 in Tab A. HTT General?
B32: Response 13 | C32: In the columns titled "Nominal [after hedging]", all amounts must be inserted in the line for the interest rate type they have been swapped into. For example, if all outstanding amounts have been swapped into floating rate, only this line should be filled. Total amounts should show the same figures both before and after hedging.
A33: Question 14: How should arrears be populated in Tab E. Optional ECB-ECAIs data?
B34: Response 14 | C34: Performing loans should be excluded from the "1-<30 days" bucket. If a loan is in arrears, please report the entire principal amount for the loan, not just the instalment that is in arrears.
A35: Question 15: What is the Cover Pools' FIGI identifier and where can I find it?
B36: Response 15 | C36: FIGI is a 12-character alphanumeric ID used to differentiate and map information associated to cover pools. Each pool has a unique FIGI ID which cannot be re-used. You can search for existing FIGI ID's for cover pools on the Bloomberg Terminal or on the openfigi.com webpage. Bloomberg is a certified provider and will facilitate to request a FIGI ID for new pools. Requests can be send with relevant documentation via email to emeacapmkts@bloomberg.net. We would like to underline that the inclusion of the FIGI number in your HTT is on a voluntary basis.

Sheet A. HTT General
A1: A. Harmonised Transparency Template - General Information | F1: HTT 2027
B3: Reporting in Domestic Currency | C3: EUR
B5: CONTENT OF TAB A
B6: 1. Basic Facts
B7: 2. Regulatory Summary
B8: 3. General Cover Pool / Covered Bond Information | F8: `
B9: 4. Compliance Art 14 CBD Check Table
B10: 5. References to Capital Requirements Regulation (CRR) 129(1)
B11: 6. Other relevant information
A13: Field Number | B13: 1. Basic Facts
A14: G.1.1.1 | B14: Country | C14: Spain
A15: G.1.1.2 | B15: Issuer Name | C15: Caja Rural de Navarra, Sociedad Cooperativa de Crédito
A16: G.1.1.3 | B16: Labelled Cover Pool Name | C16: Covered Bond
A17: G.1.1.4 | B17: Link to Issuer's Website | C17: https://www.cajaruraldenavarra.com/en/information-investors
A18: G.1.1.5 | B18: Cut-off date | C18: 46295
A19: G.1.1.6 | B19: Cover Pool's FIGI Identifier (non-mandatory) | C19: BBG00BDCKKW2
A20: OG.1.1.2 | B20: Optional information e.g. Contact names
A21: OG.1.1.3 | B21: Optional information e.g. Parent name
A22: OG.1.1.4
A23: OG.1.1.5
A24: OG.1.1.6
A25: OG.1.1.7
B26: 2. Regulatory Summary
A27: G.2.1.1 | B27: Basel Compliance, subject to national jurisdiction (Y/N) | C27: Y
A28: G.2.1.2 | B28: CBD Compliance | C28: Y | W28: Y
A29: G.2.1.3 | B29: CRR Compliance (Y/N) | C29: Y | W29: N
A30: OG.2.1.1 | B30: LCR status | C30: https://www.coveredbondlabel.com/issuer/118-caja-rural-de-navarra-sociedad-coop-de-credito | W30: Non-EEA, Art 14 CBD compliant
A31: OG.2.1.2
A32: OG.2.1.3
A33: OG.2.1.4
A34: OG.2.1.5
A35: OG.2.1.6
B36: 3. General Cover Pool / Covered Bond Information
B37: 1.General Information | C37: Nominal (mn)
A38: G.3.1.1 | B38: Total Cover Assets | C38: 3291.6823
A39: G.3.1.2 | B39: Outstanding Covered Bonds | C39: 2150
A40: OG.3.1.1 | B40: Cover Pool Size [NPV] (mn) | C40: ND1
A41: OG.3.1.2 | B41: Outstanding Covered Bonds [NPV] (mn) | C41: ND1
A42: OG.3.1.3
A43: OG.3.1.4
...

Sheet B1. HTT Mortgage Assets
A1: B1. Harmonised Transparency Template - Mortgage Assets | F1: HTT 2027
B3: Reporting in Domestic Currency | C3: EUR
B5: CONTENT OF TAB B1
B6: 7. Mortgage Assets
B7: 7.A Residential Cover Pool
B8: 7.B Commercial Cover Pool
A10: Field Number | B10: 7. Mortgage Assets
B11: 1. Property Type Information | C11: Nominal (mn) | F11: % Total Mortgages
A12: M.7.1.1 | B12: Residential | C12: 2756.6823 | F12: =IF($C$15=0,"",IF(C12="[for completion]","",C12/$C$15)) -> 1
A13: M.7.1.2 | B13: Commercial | C13: 0 | F13: =IF($C$15=0,"",IF(C13="[for completion]","",C13/$C$15)) -> 0
A14: M.7.1.3 | B14: Other | C14: 0 | F14: =IF($C$15=0,"",IF(C14="[for completion]","",C14/$C$15)) -> 0
A15: M.7.1.4 | B15: Total | C15: =SUM(C12:C14) -> 2756.6823 | F15: =SUM(F12:F14) -> 1
A16: OM.7.1.1 | B16: o/w Housing Cooperatives / Multi-family assets | F16: =IF($C$15=0,"",IF(C16="[for completion]","",C16/$C$15)) -> 0
A17: OM.7.1.2 | B17: o/w Forest & Agriculture | F17: =IF($C$15=0,"",IF(C17="[for completion]","",C17/$C$15)) -> 0
A18: OM.7.1.3 | B18: o/w [If relevant, please specify] | F18: =IF($C$15=0,"",IF(C18="[for completion]","",C18/$C$15)) -> 0
A19: OM.7.1.4 | B19: o/w [If relevant, please specify] | F19: =IF($C$15=0,"",IF(C19="[for completion]","",C19/$C$15)) -> 0
A20: OM.7.1.5 | B20: o/w [If relevant, please specify] | F20: =IF($C$15=0,"",IF(C20="[for completion]","",C20/$C$15)) -> 0
A21: OM.7.1.6 | B21: o/w [If relevant, please specify] | F21: =IF($C$15=0,"",IF(C21="[for completion]","",C21/$C$15)) -> 0
A22: OM.7.1.7 | B22: o/w [If relevant, please specify] | F22: =IF($C$15=0,"",IF(C22="[for completion]","",C22/$C$15)) -> 0
A23: OM.7.1.8 | B23: o/w [If relevant, please specify] | F23: =IF($C$15=0,"",IF(C23="[for completion]","",C23/$C$15)) -> 0
A24: OM.7.1.9 | B24: o/w [If relevant, please specify] | F24: =IF($C$15=0,"",IF(C24="[for completion]","",C24/$C$15)) -> 0
A25: OM.7.1.10 | B25: o/w [If relevant, please specify] | F25: =IF($C$15=0,"",IF(C25="[for completion]","",C25/$C$15)) -> 0
A26: OM.7.1.11 | B26: o/w [If relevant, please specify] | F26: =IF($C$15=0,"",IF(C26="[for completion]","",C26/$C$15)) -> 0
B27: 2. General Information | C27: Residential Loans | D27: Commercial Loans | F27: Total Mortgages
A28: M.7.2.1 | B28: Number of mortgage loans | C28: 26775 | D28: 0 | F28: =IF(AND(C28="[For completion]",D28="[For completion]"),"[For completion]",SUM(C28:D28)) -> 26775
A29: OM.7.2.1 | B29: Optional information eg, Number of borrowers | C29: 38891 | D29: 0
A30: OM.7.2.2 | B30: Optional information eg, Number of guarantors
A31: OM.7.2.3
A32: OM.7.2.4
A33: OM.7.2.5
A34: OM.7.2.6
B35: 3. Concentration Risks | C35: % Residential Loans | D35: % Commercial Loans | F35: % Total Mortgages
A36: M.7.3.1 | B36: 10 largest exposures | C36: 0.0034375152 | D36: 0 | F36: 0.0034375152
A37: OM.7.3.1
A38: OM.7.3.2
A39: OM.7.3.3
A40: OM.7.3.4
A41: OM.7.3.5
A42: OM.7.3.6
B43: 4. Breakdown by Geography | C43: % Residential Loans | D43: % Commercial Loans | F43: % Total Mortgages
...

Sheet B2. HTT Public Sector Assets
A1: B2. Harmonised Transparency Template - Public Sector Assets | F1: HTT 2027
B3: Reporting in Domestic Currency | C3: [Please insert currency]
B5: CONTENT OF TAB B2
B6: 8. Public Sector Assets
A8: Field Number | B8: 8. Public Sector Assets
B9: 1. General Information
A10: PS.8.1.1 | B10: Number of public sector exposures | C10: [For completion]
A11: OPS.8.1.1 | B11: Optional information eg, Number of borrowers
A12: OPS.8.1.2 | B12: Optional information eg, Number of guarantors
A13: OPS.8.1.3
A14: OPS.8.1.4
A15: OPS.8.1.5
A16: OPS.8.1.6
A17: OPS.8.1.7
B18: 2. Size Information | C18: Nominal | D18: Number of Exposures | F18: % Public Sector Assets | G18: % No. of Exposures
A19: PS.8.2.1 | B19: Average exposure size (000s) | C19: [For completion]
B21: By buckets (mn):
A22: PS.8.2.2 | B22: of which up to 1mn euros | C22: [For completion] | D22: [For completion] | F22: =IF($C$37=0,"",IF(C22="[for completion]","",C22/$C$37)) | G22: =IF($D$37=0,"",IF(D22="[for completion]","",D22/$D$37))
A23: PS.8.2.3 | B23: of which more than 1mn euros up to 10mn euros | C23: [For completion] | D23: [For completion] | F23: =IF($C$37=0,"",IF(C23="[for completion]","",C23/$C$37)) | G23: =IF($D$37=0,"",IF(D23="[for completion]","",D23/$D$37))
A24: PS.8.2.4 | B24: of which more than 10mn euros up to 20mn euros | C24: [For completion] | D24: [For completion] | F24: =IF($C$37=0,"",IF(C24="[for completion]","",C24/$C$37)) | G24: =IF($D$37=0,"",IF(D24="[for completion]","",D24/$D$37))
A25: PS.8.2.5 | B25: of which more than 20mn euros up to 50mn euros | C25: [For completion] | D25: [For completion] | F25: =IF($C$37=0,"",IF(C25="[for completion]","",C25/$C$37)) | G25: =IF($D$37=0,"",IF(D25="[for completion]","",D25/$D$37))
A26: PS.8.2.6 | B26: of which more than 50mn euros | C26: [For completion] | D26: [For completion] | F26: =IF($C$37=0,"",IF(C26="[for completion]","",C26/$C$37)) | G26: =IF($D$37=0,"",IF(D26="[for completion]","",D26/$D$37))
A27: PS.8.2.7 | F27: =IF($C$37=0,"",IF(C27="[for completion]","",C27/$C$37)) | G27: =IF($D$37=0,"",IF(D27="[for completion]","",D27/$D$37))
A28: PS.8.2.8 | F28: =IF($C$37=0,"",IF(C28="[for completion]","",C28/$C$37)) | G28: =IF($D$37=0,"",IF(D28="[for completion]","",D28/$D$37))
A29: PS.8.2.9 | F29: =IF($C$37=0,"",IF(C29="[for completion]","",C29/$C$37)) | G29: =IF($D$37=0,"",IF(D29="[for completion]","",D29/$D$37))
A30: PS.8.2.10 | F30: =IF($C$37=0,"",IF(C30="[for completion]","",C30/$C$37)) | G30: =IF($D$37=0,"",IF(D30="[for completion]","",D30/$D$37))
A31: PS.8.2.11 | F31: =IF($C$37=0,"",IF(C31="[for completion]","",C31/$C$37)) | G31: =IF($D$37=0,"",IF(D31="[for completion]","",D31/$D$37))
A32: PS.8.2.12 | F32: =IF($C$37=0,"",IF(C32="[for completion]","",C32/$C$37)) | G32: =IF($D$37=0,"",IF(D32="[for completion]","",D32/$D$37))
A33: PS.8.2.13 | F33: =IF($C$37=0,"",IF(C33="[for completion]","",C33/$C$37)) | G33: =IF($D$37=0,"",IF(D33="[for completion]","",D33/$D$37))
A34: PS.8.2.14 | F34: =IF($C$37=0,"",IF(C34="[for completion]","",C34/$C$37)) | G34: =IF($D$37=0,"",IF(D34="[for completion]","",D34/$D$37))
A35: PS.8.2.15 | F35: =IF($C$37=0,"",IF(C35="[for completion]","",C35/$C$37)) | G35: =IF($D$37=0,"",IF(D35="[for completion]","",D35/$D$37))
A36: PS.8.2.16 | F36: =IF($C$37=0,"",IF(C36="[for completion]","",C36/$C$37)) | G36: =IF($D$37=0,"",IF(D36="[for completion]","",D36/$D$37))
A37: PS.8.2.17 | B37: Total | C37: =SUM(C22:C36) -> 0 | D37: =SUM(D22:D36) -> 0 | F37: =SUM(F22:F36) -> 0 | G37: =SUM(G22:G36) -> 0
B38: 3. Breakdown by Asset Type | C38: Nominal (mn) | F38: % Public Sector Assets
A39: PS.8.3.1 | B39: Loans | C39: [For completion] | F39: =IF($C$42=0,"",IF(C39="[for completion]","",C39/$C$42))
A40: PS.8.3.2 | B40: Bonds | C40: [For completion] | F40: =IF($C$42=0,"",IF(C40="[for completion]","",C40/$C$42))
A41: PS.8.3.3 | B41: Other | C41: [For completion] | F41: =IF($C$42=0,"",IF(C41="[for completion]","",C41/$C$42))
A42: PS.8.3.4 | B42: Total | C42: =SUM(C39:C41) -> 0 | F42: =SUM(F39:F41) -> 0
A43: OPS.8.3.1
A44: OPS.8.3.2
...

Sheet B3. HTT Shipping Assets
A1: B3. Harmonised Transparency Template - Shipping Assets | F1: HTT 2027
B3: Reporting in Domestic Currency | C3: [Please insert currency]
B5: CONTENT OF TAB B3
B6: 9. Shipping Assets
A8: Field Number | B8: 9. Shipping Assets
B9: 1. General Information | C9: Shipping Loans
A10: S.9.1.1 | B10: Number of shipping loans | C10: [For completion]
A11: OS.9.1.1 | B11: Optional information eg, Number of borrowers
A12: OS.9.1.2 | B12: Optional information eg, Number of guarantors
A13: OS.9.1.3
A14: OS.9.1.4
A15: OS.9.1.5
A16: OS.9.1.6
B17: 2. Concentration Risks | C17: % Shipping Loans
A18: S.9.2.1 | B18: 10 largest exposures | C18: [For completion]
A19: OS.9.2.1
A20: OS.9.2.2
A21: OS.9.2.3
A22: OS.9.2.4
A23: OS.9.2.5
A24: OS.9.2.6
B25: 3. Breakdown by Geography / Country of Registration | C25: % Shipping Loans
A26: S.9.3.1 | B26: European Union | C26: =SUM(C27:C53) -> 0
A27: S.9.3.2 | B27: Austria | C27: [For completion]
A28: S.9.3.3 | B28: Belgium | C28: [For completion]
A29: S.9.3.4 | B29: Bulgaria | C29: [For completion]
A30: S.9.3.5 | B30: Croatia | C30: [For completion]
A31: S.9.3.6 | B31: Cyprus | C31: [For completion]
A32: S.9.3.7 | B32: Czechia | C32: [For completion]
A33: S.9.3.8 | B33: Denmark | C33: [For completion]
A34: S.9.3.9 | B34: Estonia | C34: [For completion]
A35: S.9.3.10 | B35: Finland | C35: [For completion]
A36: S.9.3.11 | B36: France | C36: [For completion]
A37: S.9.3.12 | B37: Germany | C37: [For completion]
A38: S.9.3.13 | B38: Greece | C38: [For completion]
... A53: S.9.3.28 | B53: Sweden | C53: [For completion]
A54: S.9.3.29 | B54: European Economic Area (not member of EU) | C54: =SUM(C55:C57) -> 0
A55: S.9.3.30 | B55: Iceland | C55: [For completion]
A56: S.9.3.31 | B56: Liechtenstein | C56: [For completion]
A57: S.9.3.32 | B57: Norway | C57: [For completion]
...

Sheet C. HTT Harmonised Glossary
A1: C. Harmonised Transparency Template - Glossary | C1: HTT 2026
A3: The definitions below reflect the national specificities
A5: Field Number | B5: 1. Glossary - Standard Harmonised Items | C5: Definition
A6: HG.1.1 | B6: OC Calculation: Statutory | C6: Statutory Overcollateralisation is the overcollateralisation percentage required to be provided by each Issuer and included/disclosed in the national covered bond framework.
A7: HG.1.2 | B7: OC Calculation: Contractual | C7: Contractual Overcollateralisation is the overcollateralisation percentage each Issuer has contractually agreed to maintain pursuant to the covered bond programme documents.
A8: HG.1.3 | B8: OC Calculation: Voluntary | C8: Voluntary Overcollateralisation is the difference (if positive) between the actual overcollateralisation provided by an Issuer and the higher of the contractual and statutory overcollateralisation.
A9: HG.1.4 | B9: Interest Rate Types | C9: Fixed Rate (rate constant > 1 year); Floating Rate (rate constant ≤ 1 year)
A10: HG.1.5 | B10: Life of cover assets: how is it calculated? Does it only consider the final date of redemption or does it take into account scheduled redemptions for amortising assets? Is is calculated by reference to the next interest reset dates or by reference to the redemption dates ? If assets have a floating or resettable rate, which assumption do you make regarding the future applicable rate? | C10: WA life should be interpreted as the residual life of the loan considering the principal paydowns schedule
A11: HG.1.6 | B11: Maturity Buckets of Covered Bonds [i.e. how is the contractual and/or expected maturity defined? What maturity structure (hard bullet, soft bullet, conditional pass through)? Under what conditions/circumstances? Etc.] | C11: The bond`s remaining original contractual life for both hard and soft bullet structures. The soft bullet mechanism may be applied to loans incorporated after the entry into force of Royal Decree-Law 24/2021, under certain circumstances related to liquidity problems in the cover pool or the issuer.
A12: HG.1.7 | B12: Maturity Extention Triggers | C12: Maturiry extension can be triggered in the event of severe liquidity problems, insolvency or resolution situations, no viability of the credit institution according to the Recovery and Resolution Directive, or serious market disturbances, as defined in article 15.2 of the Royal Decree-Law 24/2021, of 2 November on the transposition of European Union directives in the area of covered bonds
A13: HG.1.8 | B13: LTVs: Definition | C13: It should be calculated by dividing the outstanding capital by the reference value from the last appraisal, although the last appraisal value must not exceed the original appraisal value.
A14: HG.1.9 | B14: LTVs: Calculation of property/shipping value | C14: article 23 of the Royal Decree-Law 24/2021, of 2 November on the transposition of European Union directives in the area of covered bonds
A15: HG.1.10 | B15: LTVs: Applied property/shipping valuation techniques, including whether use of index, Automated Valuation Model (AVM) or on-site audits | C15: [For completion]
A16: HG.1.11 | B16: LTVs: Frequency and time of last valuation | C16: Annual
... A20: HG.1.15 | B20: Valuation Method | C20: Several
A21: OHG.1.1 | B21: NPV assumptions (when stated)
A22: OHG.1.2
A23: OHG.1.3
A24: OHG.1.4
A25: OHG.1.5
A26: OHG.1.6
A27: OHG.1.7
B28: 2. Glossary - ESG items (optional) | C28: Definition
A29: HG.2.1 | B29: Sustainability - strategy pursued in the cover pool | C29: CRN invests the proceeds of its sustainable, social and green bonds in accordance with its Sustainable Bond Framework (https://www.cajaruraldenavarra.com/sites/default/files/info-inversores/Sostenibilidad/Marco/Sustainable%20Finance%20Framework-VFinal.pdf) and following ICMA's Green Bond Principles, Social Bond Principles and Sustainability Bond Guidelines.
A30: HG.2.2 | B30: Subsidised Housing (definitions of affordable, social housing) | C30: The term affordable housing has not been provided in any state housing regulations. In any case, in general terms, we could understand affordable housing as referring to housing that enjoys some kind of public protection or benefit for the enjoyment of its citizenship.
A31: HG.2.3 | B31: New Property and Existing Property | C31: "New property" must be no older than 5 years from the year of construction, while "existing property" will be more than 5 years old.
A32: OHG.2.1 | B32: Indication of proxy usage for ESG-related data (indicator, methodology, timing, share of proxy usage for single indicators etc.) | C32: ND2
A33: OHG.2.2
A34: OHG.2.3
A35: OHG.2.4
A36: OHG.2.5
A37: OHG.2.6
A38: OHG.2.7
A39: OHG.2.8
A40: OHG.2.9
A41: OHG.2.10
A42: OHG.2.11
A43: OHG.2.12
B44: 3. Reason for No Data | C44: Value
A45: HG.3.1 | B45: Not applicable for the jurisdiction | C45: ND1
...

Sheet D. Insert Nat Trans Templ

Sheet E. Optional ECB-ECAIs data
A1: This addendum is optional
A2: E. Harmonised Transparency Template - Optional ECB - ECAIs Data Disclosure | F2: HTT 2027
B4: Reporting in Domestic Currency | C4: [Please insert currency]
B6: CONTENT OF TAB E
B7: 1. Additional information on the programme
B8: 2. Additional information on the swaps
B9: 3. Additional information on the asset distribution
A12: Field Number | B12: 1. Additional information on the programme
B13: Transaction Counterparties | C13: Name | D13: Legal Entity Identifier (LEI)
A14: E.1.1.1 | B14: Sponsor (if applicable) | C14: Example Bank | D14: Example Bank
A15: E.1.1.2 | B15: Servicer | C15: [For completion] | D15: [For completion]
A16: E.1.1.3 | B16: Back-up servicer | C16: [For completion] | D16: [For completion]
A17: E.1.1.4 | B17: BUS facilitator | C17: [For completion] | D17: [For completion]
A18: E.1.1.5 | B18: Cash manager | C18: [For completion] | D18: [For completion]
A19: E.1.1.6 | B19: Back-up cash manager | C19: [For completion] | D19: [For completion]
A20: E.1.1.7 | B20: Account bank | C20: [For completion] | D20: [For completion]
A21: E.1.1.8 | B21: Standby account bank | C21: [For completion] | D21: [For completion]
A22: E.1.1.9 | B22: Account bank guarantor | C22: [For completion] | D22: [For completion]
A23: E.1.1.10 | B23: Trustee | C23: [For completion] | D23: [For completion]
A24: E.1.1.11 | B24: Cover Pool Monitor | C24: [For completion] | D24: [For completion]
A25: OE.1.1.1 | B25: where applicable - paying agent | C25: [For completion] | D25: [For completion]
A26: OE.1.1.2
A27: OE.1.1.3
A28: OE.1.1.4
A29: OE.1.1.5
A30: OE.1.1.6
A31: OE.1.1.7
A32: OE.1.1.8
B33: 2. Additional information on the swaps
B34: Swap Counterparties | C34: Guarantor (if applicable) | D34: Legal Entity Identifier (LEI) | E34: Type of Swap
A35: E.2.1.1 | B35: Example Bank | C35: Example Guarantor | D35: Example Bank(LEI) | E35: FX
A36: E.2.1.2 | B36: Counterparty 2 | C36: [For completion] | D36: [For completion] | E36: [For completion]
A37: E.2.1.3 | B37: Counterparty 3 | C37: [For completion] | D37: [For completion] | E37: [For completion]
A38: E.2.1.4 | B38: Counterparty 4 | C38: [For completion] | D38: [For completion] | E38: [For completion]
A39: E.2.1.5 | B39: Counterparty 5 | C39: [For completion] | D39: [For completion] | E39: [For completion]
A40: E.2.1.6 | B40: Counterparty 6 | C40: [For completion] | D40: [For completion] | E40: [For completion]
A41: E.2.1.7 | B41: Counterparty 7 | C41: [For completion] | D41: [For completion] | E41: [For completion]
A42: E.2.1.8 | B42: Counterparty 8 | C42: [For completion] | D42: [For completion] | E42: [For completion]
A43: E.2.1.9 | B43: Counterparty 9 | C43: [For completion] | D43: [For completion] | E43: [For completion]
A44: E.2.1.10 | B44: Counterparty 10 | C44: [For completion] | D44: [For completion] | E44: [For completion]
...

Sheet F1. Sustainable M data
A1: F1. Harmonised Transparency Template - Sustainable Mortgage Data | F1: HTT 2027
B3: Reporting in Domestic Currency | C3: [Please insert currency]
B5: CONTENT OF TAB F1
B6: 1. Share of sustainable loans in the total mortgage program
B7: 2. Additional information on the sustainable section of the mortgage stock
B8: 2A. Sustainable Residential Cover Pool
B9: 2B. Sustainable Commercial Cover Pool
B13: 1. Share of sustainable loans in the total mortgage program
B14: 1. Amount of sustainable loans | C14: Nominal (mn) | D14: Number of loans | F14: % Nominal (mn) to total mortgage program | G14: % No. of Loans to total mortgage program
A15: SM.1.1.1 | B15: EE mortgage loans | C15: [For completion] | D15: [For completion] | F15: =IF(OR('B1. HTT Mortgage Assets'!$C$15=0,C15="[For completion]"),"",C15/'B1. HTT Mortgage Assets'!$C$15) | G15: =IF(OR('B1. HTT Mortgage Assets'!$F$28=0,D15="[For completion]"),"",D15/'B1. HTT Mortgage Assets'!$F$28)
A16: SM.1.1.2 | B16: Social impact mortgage loans | C16: [For completion] | D16: [For completion] | F16: =IF(OR('B1. HTT Mortgage Assets'!$C$15=0,C16="[For completion]"),"",C16/'B1. HTT Mortgage Assets'!$C$15) | G16: =IF(OR('B1. HTT Mortgage Assets'!$F$28=0,D16="[For completion]"),"",D16/'B1. HTT Mortgage Assets'!$F$28)
A17: SM.1.1.3 | B17: other | C17: [For completion] | D17: [For completion] | F17: =IF(OR('B1. HTT Mortgage Assets'!$C$15=0,C17="[For completion]"),"",C17/'B1. HTT Mortgage Assets'!$C$15) | G17: =IF(OR('B1. HTT Mortgage Assets'!$F$28=0,D17="[For completion]"),"",D17/'B1. HTT Mortgage Assets'!$F$28)
A18: SM.1.1.4 | B18: Total sustainable mortgage loans | C18: =SUM(C15:C17) -> 0 | D18: =SUM(D15:D17) -> 0 | F18: =SUM(F15:F17) -> 0 | G18: =SUM(G15:G17) -> 0
A19: SM. 1.1.5 | B19: Outstanding Sustainable Covered Bonds | C19: [For completion]
A20: OSM.1.1.1 | B20: o/w [If relevant, please specify]
A21: OSM.1.1.2 | B21: o/w [If relevant, please specify]
A22: OSM.1.1.3 | B22: o/w [If relevant, please specify]
A23: OSM.1.1.4 | B23: o/w [If relevant, please specify]
B24: 2. Additional information on the sustainable section of the mortgage stock
B25: 1. Sustainable Property Type Information | C25: Nominal (mn) | F25: % Total sustainable Mortgages
A26: SM.2.1.1 | B26: Residential | C26: [For completion] | F26: =IF($C$29=0,"",IF(C26="[For completion]","",C26/$C$29))
A27: SM.2.1.2 | B27: Commercial | C27: [For completion] | F27: =IF($C$29=0,"",IF(C27="[For completion]","",C27/$C$29))
A28: SM.2.1.3 | B28: Other | C28: [For completion] | F28: =IF($C$29=0,"",IF(C28="[For completion]","",C28/$C$29))
A29: SM.2.1.4 | B29: Total | C29: =SUM(C26:C28) -> 0 | F29: =SUM(F26:F28) -> 0
A30: OSM.2.1.1 | B30: o/w Forest & Agriculture | F30: =IF($C$29=0,"",IF(C30="[For completion]","",C30/$C$29))
A31: OSM.2.1.2 | B31: o/w EE residential | F31: =IF($C$29=0,"",IF(C31="[For completion]","",C31/$C$29))
A32: OSM.2.1.3 | B32: o/w EE commercial | F32: =IF($C$29=0,"",IF(C32="[For completion]","",C32/$C$29))
A33: OSM.2.1.4 | B33: o/w EE other | F33: =IF($C$29=0,"",IF(C33="[For completion]","",C33/$C$29))
A34: OSM.2.1.5 | B34: EE total | F34: =IF($C$29=0,"",IF(C34="[For completion]","",C34/$C$29))
A35: OSM.2.1.6 | B35: o/w Social residential | F35: =IF($C$29=0,"",IF(C35="[For completion]","",C35/$C$29))
A36: OSM.2.1.7 | B36: o/wSocial Commercial | F36: =IF($C$29=0,"",IF(C36="[For completion]","",C36/$C$29))
A37: OSM.2.1.8 | B37: o/w social other | F37: =IF($C$29=0,"",IF(C37="[For completion]","",C37/$C$29))
A38: OSM.2.1.9 | B38: social tot | F38: =IF($C$29=0,"",IF(C38="[For completion]","",C38/$C$29))
A39: OSM.2.1.10 | B39: o/w Renewable Energy and Renewable Energy Transmission | F39: =IF($C$29=0,"",IF(C39="[For completion]","",C39/$C$29))
A40: OSM.2.1.11 | B40: o/w [If relevant, please specify]
A41: OSM.2.1.12 | B41: o/w [If relevant, please specify]
A42: OSM.2.1.13 | B42: o/w [If relevant, please specify]
A43: OSM.2.1.14 | B43: o/w [If relevant, please specify]
A44: OSM.2.1.15 | B44: o/w [If relevant, please specify]
A45: OSM.2.1.16 | B45: o/w [If relevant, please specify]
...

Sheet F2. Sustainable PS data
A1: F2. Harmonised Transparency Template - Sustainable Public Sector Assets | F1: HTT 2027
B3: Reporting in Domestic Currency | C3: [Please insert currency]
B5: CONTENT OF TAB F2
B6: 1. Share of sustainable Public Sector Assets
B7: 2. Sustainable Public Sector Assets
B9: 1. Share of sustainable public sector assets in the total cover pool program
B10: 1. Amount of sustainable loans | C10: Nominal (mn) | D10: Number of loans | F10: % Nominal (mn) to total Public Sector program | G10: % No. of Loans to total Public Sector program
A11: SPS.1.1.1 | B11: Green Public Sector exposures | C11: [For completion] | D11: [For completion] | F11: =IF(OR('B2. HTT Public Sector Assets'!$C$37=0,C11="[For completion]"),"",C11/'B2. HTT Public Sector Assets'!$C$37) | G11: =IF(OR('B2. HTT Public Sector Assets'!$C$10=0,D11="[For completion]"),"",D11/'B2. HTT Public Sector Assets'!$C$10)
A12: SPS.1.1.2 | B12: o/w Local Communities | C12: [For completion] | D12: [For completion]
A13: SPS.1.1.3 | B13: o/w Hospitals | C13: [For completion] | D13: [For completion]
A14: SPS.1.1.4 | B14: o/w Export Credit | C14: [For completion] | D14: [For completion]
B15: o/w other | C15: [For completion] | D15: [For completion]
A16: SPS.1.1.5 | B16: Social Public Sector exposures | C16: [For completion] | D16: [For completion] | F16: =IF(OR('B2. HTT Public Sector Assets'!$C$37=0,C16="[For completion]"),"",C16/'B2. HTT Public Sector Assets'!$C$37) | G16: =IF(OR('B2. HTT Public Sector Assets'!$C$10=0,D16="[For completion]"),"",D16/'B2. HTT Public Sector Assets'!$C$10)
A17: SPS.1.1.6 | B17: o/w Local Communities | C17: [For completion] | D17: [For completion]
A18: SPS.1.1.7 | B18: o/w Hospitals | C18: [For completion] | D18: [For completion]
A19: SPS.1.1.8 | B19: o/w Export Credit | C19: [For completion] | D19: [For completion]
B20: o/w other | C20: [For completion] | D20: [For completion]
A21: SPS.1.1.9 | B21: other | C21: [For completion] | D21: [For completion] | F21: =IF(OR('B2. HTT Public Sector Assets'!$C$37=0,C21="[For completion]"),"",C21/'B2. HTT Public Sector Assets'!$C$37) | G21: =IF(OR('B2. HTT Public Sector Assets'!$C$10=0,D21="[For completion]"),"",D21/'B2. HTT Public Sector Assets'!$C$10)
A22: SPS.1.1.10 | B22: Total sustainable Public Sector exposures | C22: =SUM(C11,C16,C21) -> 0 | D22: =SUM(D11,D16,D21) -> 0 | F22: =SUM(F11:F21) -> 0 | G22: =SUM(G11:G21) -> 0
A23: OSPS.1.1.1 | B23: o/w [If relevant, please specify]
A24: OSPS.1.1.2 | B24: o/w [If relevant, please specify]
A25: OSPS.1.1.3 | B25: o/w [If relevant, please specify]
A26: OSPS.1.1.4 | B26: o/w [If relevant, please specify]
A27: OSPS.1.1.5 | B27: o/w [If relevant, please specify]
B30: 2. Type of use of sustainable loans | C30: Nominal (mn) | D30: Number of loans | F30: % Nominal (mn) to total Public Sector program | G30: % No. of Loans to total Public Sector program
A31: SPS.1.2.1 | B31: Renewable energy | C31: [For completion] | D31: [For completion] | F31: =IF(OR('B2. HTT Public Sector Assets'!$C$37=0,C31="[For completion]"),"",C31/'B2. HTT Public Sector Assets'!$C$37) | G31: =IF(OR('B2. HTT Public Sector Assets'!$C$10=0,D31="[For completion]"),"",D31/'B2. HTT Public Sector Assets'!$C$10)
A32: SPS.1.2.2 | B32: Energy efficiency | C32: [For completion] | D32: [For completion] | F32: =IF(OR('B2. HTT Public Sector Assets'!$C$37=0,C32="[For completion]"),"",C32/'B2. HTT Public Sector Assets'!$C$37) | G32: =IF(OR('B2. HTT Public Sector Assets'!$C$10=0,D32="[For completion]"),"",D32/'B2. HTT Public Sector Assets'!$C$10)
A33: SPS.1.2.3 | B33: Pollution prevention and control | C33: [For completion] | D33: [For completion] | F33: =IF(OR('B2. HTT Public Sector Assets'!$C$37=0,C33="[For completion]"),"",C33/'B2. HTT Public Sector Assets'!$C$37) | G33: =IF(OR('B2. HTT Public Sector Assets'!$C$10=0,D33="[For completion]"),"",D33/'B2. HTT Public Sector Assets'!$C$10)
A34: SPS.1.2.4 | B34: Ecologically sustainable management of living natural resources and land use | C34: [For completion] | D34: [For completion] | F34: =IF(OR('B2. HTT Public Sector Assets'!$C$37=0,C34="[For completion]"),"",C34/'B2. HTT Public Sector Assets'!$C$37) | G34: =IF(OR('B2. HTT Public Sector Assets'!$C$10=0,D34="[For completion]"),"",D34/'B2. HTT Public Sector Assets'!$C$10)
A35: SPS.1.2.5 | B35: Conservation of terrestrial and marine biodiversity | C35: [For completion] | D35: [For completion] | F35: =IF(OR('B2. HTT Public Sector Assets'!$C$37=0,C35="[For completion]"),"",C35/'B2. HTT Public Sector Assets'!$C$37) | G35: =IF(OR('B2. HTT Public Sector Assets'!$C$10=0,D35="[For completion]"),"",D35/'B2. HTT Public Sector Assets'!$C$10)
A36: SPS.1.2.6 | B36: Clean transportation/mobility | C36: [For completion] | D36: [For completion] | F36: =IF(OR('B2. HTT Public Sector Assets'!$C$37=0,C36="[For completion]"),"",C36/'B2. HTT Public Sector Assets'!$C$37) | G36: =IF(OR('B2. HTT Public Sector Assets'!$C$10=0,D36="[For completion]"),"",D36/'B2. HTT Public Sector Assets'!$C$10)
A37: SPS.1.2.7 | B37: Sustainable (waste) water management | C37: [For completion] | D37: [For completion] | F37: =IF(OR('B2. HTT Public Sector Assets'!$C$37=0,C37="[For completion]"),"",C37/'B2. HTT Public Sector Assets'!$C$37) | G37: =IF(OR('B2. HTT Public Sector Assets'!$C$10=0,D37="[For completion]"),"",D37/'B2. HTT Public Sector Assets'!$C$10)
A38: SPS.1.2.8 | B38: Adaptation to climate change | C38: [For completion] | D38: [For completion] | F38: =IF(OR('B2. HTT Public Sector Assets'!$C$37=0,C38="[For completion]"),"",C38/'B2. HTT Public Sector Assets'!$C$37) | G38: =IF(OR('B2. HTT Public Sector Assets'!$C$10=0,D38="[For completion]"),"",D38/'B2. HTT Public Sector Assets'!$C$10)
A39: SPS.1.2.9 | B39: Environmentally efficient products and/or products, product technologies and processes suitable for the circular economy | C39: [For completion] | D39: [For completion] | F39: =IF(OR('B2. HTT Public Sector Assets'!$C$37=0,C39="[For completion]"),"",C39/'B2. HTT Public Sector Assets'!$C$37) | G39: =IF(OR('B2. HTT Public Sector Assets'!$C$10=0,D39="[For completion]"),"",D39/'B2. HTT Public Sector Assets'!$C$10)
A40: SPS.1.2.10 | B40: Financially viable basic infrastructure | C40: [For completion] | D40: [For completion] | F40: =IF(OR('B2. HTT Public Sector Assets'!$C$37=0,C40="[For completion]"),"",C40/'B2. HTT Public Sector Assets'!$C$37) | G40: =IF(OR('B2. HTT Public Sector Assets'!$C$10=0,D40="[For completion]"),"",D40/'B2. HTT Public Sector Assets'!$C$10)
A41: SPS.1.2.11 | B41: Access to basic social services | C41: [For completion] | D41: [For completion] | F41: =IF(OR('B2. HTT Public Sector Assets'!$C$37=0,C41="[For completion]"),"",C41/'B2. HTT Public Sector Assets'!$C$37) | G41: =IF(OR('B2. HTT Public Sector Assets'!$C$10=0,D41="[For completion]"),"",D41/'B2. HTT Public Sector Assets'!$C$10)
A42: SPS.1.2.12 | B42: Affordable housing | C42: [For completion] | D42: [For completion] | F42: =IF(OR('B2. HTT Public Sector Assets'!$C$37=0,C42="[For completion]"),"",C42/'B2. HTT Public Sector Assets'!$C$37) | G42: =IF(OR('B2. HTT Public Sector Assets'!$C$10=0,D42="[For completion]"),"",D42/'B2. HTT Public Sector Assets'!$C$10)
... A46: SPS.1.2.16 | B46: Access to healthcare services | C46: [For completion] | D46: [For completion] | F46: =IF(OR('B2. HTT Public Sector Assets'!$C$37=0,C46="[For completion]"),"",C46/'B2. HTT Public Sector Assets'!$C$37) | G46: =IF(OR('B2. HTT Public Sector Assets'!$C$10=0,D46="[For completion]"),"",D46/'B2. HTT Public Sector Assets'!$C$10)
A47: SPS.1.2.17 | B47: Total sustainable Public Sector exposures | C47: =SUM(C31:C46) -> 0 | D47: =SUM(D31:D46) -> 0 | F47: =SUM(F31:F40) -> 0 | G47: =SUM(G31:G46) -> 0
B49: 2. Sustainable Public Sector Assets
...

Sheet E.g. General

Sheet E.g. Other

Sheet CONTROL TRASPASO
A1: CONTROL DE TRASPASO HTT 2026 A 2027 - CR NAVARRA
A2: Origen: HTT junio 2026. Fecha de datos conservada (NO es reporte 2027).
A3: Pestañas E y F excluidas. Se conservan las fórmulas y estructura 2027.
A5: Estado | B5: Pestaña | C5: Código | D5: Origen | E5: Destino / fila | F5: Detalle
A6: TRASLADADO | B6: A. HTT General | C6: G.1.1.1 | D6: C14 | E6: C14 | F6: Spain
A7: TRASLADADO | B7: A. HTT General | C7: G.1.1.2 | D7: C15 | E7: C15 | F7: Caja Rural de Navarra, Sociedad Cooperativa de Crédito
A8: TRASLADADO | B8: A. HTT General | C8: G.1.1.3 | D8: C16 | E8: C16 | F8: Covered Bond
A9: TRASLADADO | B9: A. HTT General | C9: G.1.1.4 | D9: C17 | E9: C17 | F9: https://www.cajaruraldenavarra.com/en/information-investors
A10: TRASLADADO | B10: A. HTT General | C10: G.1.1.5 | D10: C18 | E10: C18 | F10: 46203
A11: TRASLADADO | B11: A. HTT General | C11: G.2.1.1 | D11: C27 | E11: C27 | F11: Y
A12: TRASLADADO | B12: A. HTT General | C12: G.2.1.2 | D12: C28 | E12: C28 | F12: Y
A13: TRASLADADO | B13: A. HTT General | C13: G.2.1.3 | D13: C29 | E13: C29 | F13: Y
A14: TRASLADADO | B14: A. HTT General | C14: OG.2.1.1 | D14: C30 | E14: C30 | F14: https://www.coveredbondlabel.com/issuer/118-caja-rural-de-navarra-sociedad-coop-de-credito
A15: TRASLADADO | B15: A. HTT General | C15: G.3.1.1 | D15: C38 | E15: C38 | F15: 2862.9844007600004
A16: TRASLADADO | B16: A. HTT General | C16: G.3.1.2 | D16: C39 | E16: C39 | F16: 2150
... A432: TRASLADADO | B432: B1. HTT Mortgage Assets | C432: Currency | D432: C3 | E432: C3 | F432: EUR

Sheet CONTROL HTT 2027
A1: Celda B1 | B1: Valor anterior | C1: Valor revisado | D1: Motivo | E1: Estado | G1: CONTROL DE COHERENCIA | H1: RESULTADO
A2: D44 | B2: 1 | C2: 0 | D2: Comercial = 0%: cartera sin préstamos comerciales | E2: Corregido | G2: Importe residencial (millones €) | H2: 2827.9844
A3: D70 | B3: 1 | C3: 0 | D3: Comercial = 0%: cartera sin préstamos comerciales | E3: Corregido | G3: Importe comercial (millones €) | H3: 0
A4: C100 | B4: 0.00077634992 | C4: 0.00080724938 | D4: Distribución residencial sobre cartera total; coincide con F | E4: Corregido | G4: Suma región residencial | H4: 1
A5: C101 | B5: 0.0023167049 | C5: 0.0023476787 | D5: Distribución residencial sobre cartera total; coincide con F | E5: Corregido | G5: Suma región comercial | H5: 0
A6: C102 | B6: 0.00013844274 | C6: 0.0001389132 | D6: Distribución residencial sobre cartera total; coincide con F | E6: Corregido | G6: Suma región total | H6: 1
A7: C103 | B7: 0.00028234846 | C7: 0.00028441124 | D7: Distribución residencial sobre cartera total; coincide con F | E7: Corregido
A8: C104 | B8: 0.56515826 | C8: 0.57494378 | D8: Distribución residencial sobre cartera total; coincide con F | E8: Corregido | G8: Nota: cifras históricas junio 2026 adaptadas al formato 2027; no constituye reporte 2027.
A9: C105 | B9: 0.00057987481 | C9: 0.00057439015 | D9: Distribución residencial sobre cartera total; coincide con F | E9: Corregido
A10: C106 | B10: 0.0049842476 | C10: 0.0051608598 | D10: Distribución residencial sobre cartera total; coincide con F | E10: Corregido
A11: C107 | B11: 2.7185999e-05 | C11: 2.663994e-05 | D11: Distribución residencial sobre cartera total; coincide con F | E11: Corregido
A12: C108 | B12: 0.0026087045 | C12: 0.0026391158 | D12: Distribución residencial sobre cartera total; coincide con F | E12: Corregido
A13: C109 | B13: 0.0021820981 | C13: 0.0021879721 | D13: Distribución residencial sobre cartera total; coincide con F | E13: Corregido
A14: C111 | B14: 1.4553691e-05 | C14: 1.4618235e-05 | D14: Distribución residencial sobre cartera total; coincide con F | E14: Corregido
A15: C112 | B15: 0.00013924326 | C15: 0.00018107456 | D15: Distribución residencial sobre cartera total; coincide con F | E15: Corregido
A16: C113 | B16: 0.075162518 | C16: 0.077134616 | D16: Distribución residencial sobre cartera total; coincide con F | E16: Corregido
A17: C114 | B17: 0.007438976 | C17: 0.0077056232 | D17: Distribución residencial sobre cartera total; coincide con F | E17: Corregido
A18: C116 | B18: 2.6807213e-05 | C18: 2.647525e-05 | D18: Distribución residencial sobre cartera total; coincide con F | E18: Corregido
A19: C117 | B19: 0.3367077 | C19: 0.32425798 | D19: Distribución residencial sobre cartera total; coincide con F | E19: Corregido
A20: C118 | B20: 0.0011511293 | C20: 0.0012677809 | D20: Distribución residencial sobre cartera total; coincide con F | E20: Corregido
A21: C119 | B21: 0.0003048546 | C21: 0.00030082291 | D21: Distribución residencial sobre cartera total; coincide con F | E21: Corregido
